BEGIN:VCALENDAR
VERSION:2.0
PRODID:-//Blazing Swan - ECPv5.0.2//NONSGML v1.0//EN
CALSCALE:GREGORIAN
METHOD:PUBLISH
X-WR-CALNAME:Blazing Swan
X-ORIGINAL-URL:https://blazingswan.com.au
X-WR-CALDESC:Events for Blazing Swan
BEGIN:VTIMEZONE
TZID:Australia/Perth
BEGIN:STANDARD
TZOFFSETFROM:+0800
TZOFFSETTO:+0800
TZNAME:AWST
DTSTART:20200101T000000
END:STANDARD
END:VTIMEZONE
BEGIN:VEVENT
DTSTART;TZID=Australia/Perth:20200228T000000
DTEND;TZID=Australia/Perth:20200228T235959
DTSTAMP:20200225T034337
CREATED:20190714T124957Z
LAST-MODIFIED:20191029T133631Z
UID:8536-1582848000-1582934399@blazingswan.com.au
SUMMARY:Department of Mutant Transport (DMT) Applications Close
DESCRIPTION:
URL:https://blazingswan.com.au/events/department-of-mutant-transport-dmt-applications-open-2/
CATEGORIES:Art Key Dates,DMT Key Dates
ATTACH;FMTTYPE=image/jpeg:https://blazingswan.com.au/wp-content/uploads/11082513_987490721284450_7992203524960615806_n.jpg
END:VEVENT
BEGIN:VEVENT
DTSTART;VALUE=DATE:20200301
DTEND;VALUE=DATE:20200302
DTSTAMP:20200225T034337
CREATED:20190827T061350Z
LAST-MODIFIED:20200208T071313Z
UID:8058-1583020800-1583107199@blazingswan.com.au
SUMMARY:Theme Camp and Art Installations Electrical Test & Tag - Open
DESCRIPTION:All Theme Camp fire extinguishers must be tested and tagged within the last 6 months. Eg Nov 2019 (based on April event date) would be the last tag date accepted on site.  Anything tagged after Nov 19 is acceptable. \nAs part of our commitment to support Artists and Theme Camps at Blazing Swan\, Blazing Swan will cover the costs of this exercise. For background – corporate businesses will often be charged $10 per tag – so it can become a costly affair. \nYou may drop off items at the Nest from 1st March. \nElectrical testing and tagging will take place at the nest on two dates: \n\nSaturday 7th March 10am -4pm\nSunday 15th March 10am- 4pm\n\nYou will be required to have at least one camp member to assist in the test and tag process. \nPlease ensure all leads /power boards have been inspected by you for damaged plugs\, nicks or cuts in the cable and are neatly packed\, and boxes labelled with camp or owners name and phone number. \nPlease have a separate printed list with your equipment with all leads/ power-boards \nAny failed tests will not be repaired. You will need to decide to repair or replace. \n
URL:https://blazingswan.com.au/events/theme-camp-and-art-installations-electrical-test-tag/
LOCATION:Swan’s Nest\, 38 Amherst Street\, Fremantle\, Western Australia\, 6160\, Australia
CATEGORIES:Art Key Dates,Theme Camp Key Dates
ATTACH;FMTTYPE=image/jpeg:https://blazingswan.com.au/wp-content/uploads/Test-Tag.jpg
END:VEVENT
BEGIN:VEVENT
DTSTART;VALUE=DATE:20200301
DTEND;VALUE=DATE:20200302
DTSTAMP:20200225T034337
CREATED:20190827T061350Z
LAST-MODIFIED:20200208T071122Z
UID:9270-1583020800-1583107199@blazingswan.com.au
SUMMARY:Theme Camp and Art Installations Fire Extinguisher Test & Tag - Open
DESCRIPTION:All Theme Camp fire extinguishers must be tested and tagged within the last 6 months. Eg Nov 2019 (based on April event date) would be the last tag date accepted on site.  Anything tagged after Nov 19 is acceptable. \nAs part of our commitment to support Artists and Theme Camps at Blazing Swan\, Blazing Swan will cover the costs of this exercise. For background – corporate businesses will often be charged around $40 per test/tag. \nYou may drop off your fire extinguisher at the Nest from 1st March. \nFire extinguisher must have a current tag (tagged within the last 6 months) – \nFire extinguisher testing and tagging will take place at the nest on Monday 16th March \nWe request you arrange to pick up your fire extinguisher by 29th March. \n
URL:https://blazingswan.com.au/events/theme-camp-and-art-installations-fire-extinguisher-test-tag-open/
LOCATION:Swan’s Nest\, 38 Amherst Street\, Fremantle\, Western Australia\, 6160\, Australia
CATEGORIES:Art Key Dates,Theme Camp Key Dates
ATTACH;FMTTYPE=image/jpeg:https://blazingswan.com.au/wp-content/uploads/fire-extinguisher-test-tag.jpg
END:VEVENT
BEGIN:VEVENT
DTSTART;TZID=Australia/Perth:20200307T100000
DTEND;TZID=Australia/Perth:20200307T160000
DTSTAMP:20200225T034337
CREATED:20190827T061350Z
LAST-MODIFIED:20200208T071315Z
UID:9263-1583575200-1583596800@blazingswan.com.au
SUMMARY:Theme Camp and Art Installations Electrical Test & Tag #1
DESCRIPTION:All Theme Camp fire extinguishers must be tested and tagged within the last 6 months. Eg Nov 2019 (based on April event date) would be the last tag date accepted on site.  Anything tagged after Nov 19 is acceptable. \nAs part of our commitment to support Artists and Theme Camps at Blazing Swan\, Blazing Swan will cover the costs of this exercise. For background – corporate businesses will often be charged $10 per tag – so it can become a costly affair. \nYou may drop off items at the Nest from 1st March. \nElectrical testing and tagging will take place at the nest on two dates: \n\nSaturday 7th March 10am -4pm\nSunday 15th March 10am- 4pm\n\nYou will be required to have at least one camp member to assist in the test and tag process. \nPlease ensure all leads /power boards have been inspected by you for damaged plugs\, nicks or cuts in the cable and are neatly packed\, and boxes labelled with camp or owners name and phone number. \nPlease have a separate printed list with your equipment with all leads/ power-boards \nAny failed tests will not be repaired. You will need to decide to repair or replace. \n
URL:https://blazingswan.com.au/events/theme-camp-and-art-installations-electrical-test-tag-1/
LOCATION:Swan’s Nest\, 38 Amherst Street\, Fremantle\, Western Australia\, 6160\, Australia
CATEGORIES:Art Key Dates,Theme Camp Key Dates
ATTACH;FMTTYPE=image/jpeg:https://blazingswan.com.au/wp-content/uploads/Test-Tag.jpg
END:VEVENT
BEGIN:VEVENT
DTSTART;TZID=Australia/Perth:20200307T120000
DTEND;TZID=Australia/Perth:20200307T140000
DTSTAMP:20200225T034337
CREATED:20200218T102604Z
LAST-MODIFIED:20200218T102604Z
UID:9308-1583582400-1583589600@blazingswan.com.au
SUMMARY:Theme Camp Safety Info Session
DESCRIPTION:\n\nTheme Camps and Artists! Safety Shaz will be holding a Safety Info session at the Nest on Saturday 7th March 12-2pm (Coincides with Test & Tag #1). \n\n\n \n\nThis is your last chance to catch up before Shaz heads to Kulin for site set up!\n\nTopics to be covered include:\n\n\n\nHow to apply a Wind Rating to your Structure \n\n\nHow to Use UHF Radios\n\n\nFire Safety around your Theme Camp\n\n\nInsurance – Do you need it?\n\n\n\n \n\n\nShaz will also be happy to answer any other safety questions on the day.\n\n\n\nDon’t forget electrical testing and tagging is also happening on this day at the Nest – so a good chance to down two birds with one stone.\n\n\n\nPlease email safety@blazingswan.com.au if you plan to attend so Shaz can sort out some snacks. BYO drinks. Tea and Coffee provided.\n\n\n\nThanks\, Comms on behalf of Safety Shaz\n\n
URL:https://blazingswan.com.au/events/theme-camp-safety-info-session/
LOCATION:Swan’s Nest\, 38 Amherst Street\, Fremantle\, Western Australia\, 6160\, Australia
CATEGORIES:Theme Camp Key Dates
ATTACH;FMTTYPE=image/jpeg:https://blazingswan.com.au/wp-content/uploads/image_from_ios-2.jpg
END:VEVENT
BEGIN:VEVENT
DTSTART;TZID=Australia/Perth:20200307T210000
DTEND;TZID=Australia/Perth:20200308T023000
DTSTAMP:20200225T034337
CREATED:20200210T140134Z
LAST-MODIFIED:20200210T140525Z
UID:9293-1583614800-1583634600@blazingswan.com.au
SUMMARY:Warehouse Rattle
DESCRIPTION:Chainsaw Cobra\, Camp S.H.I.T. G.I.F.T. and new comers\, The Common Room bring you a fundraiser full of delectable delights! \nHyper Pussy\nA resident DJ at Connie’s Hyper Pussy is a self-confessed bright ‘N’ colourful girl\, who’s also a firecracker behind the decks! Over the past two decades her style has evolved to include a more versatile &amp; broader spectrum of sound\, with a keen ability to read a crowd while staying true to her own style\, she can spark up a dance floor to a roaring fire. \nTristune\nPlayed for Chainsaw Cobra’s MEGA BASS WONDERLAND and recently smashed the local clubs to bits. The tunes are crisp\, the tunes are phat\, the tunes will stick in your head till next week. You can expect to dance to some funky house to some other crazy shit you have never heard off but will fall in love with. \nRosco\nYour original Mad Hatter\, pulling tricks out of the mad house. Expect to dance\, expect to feel the bass\, and expect to lose your mind. This Blaze DJ will take you down the rabbit hole into a slippery slope. Chainsaw Cobra DJ from our winter warehouse parties he always delivers. Rosco is also a part of Blazing Swans epic and legendary GOD SAID NO theme sound camp. The warehouse will rattle with Rosco on decks! \nMs Lopez\nMz Lopez is an emerging DJ &amp; Producer with a capacity to combine diverse electronic genres and create her own authentic refreshing blend. She delivers incredibly high energy sets & everlasting entertainment. \nBYO :: Bring Your Own Cup :: No Glass :: Gates close at 1am Location emailed on day \nEarly Birds $10+bfa Shit Gi\nFirst release $15+bf\nSecond release $20+bf \nGet your tickets here! \n
URL:https://blazingswan.com.au/events/warehouse-rattle/
CATEGORIES:Theme Camp Fundraiser
ATTACH;FMTTYPE=image/jpeg:https://blazingswan.com.au/wp-content/uploads/Warehouse-Rattle-Img.jpg
END:VEVENT
BEGIN:VEVENT
DTSTART;TZID=Australia/Perth:20200308T093000
DTEND;TZID=Australia/Perth:20200308T160000
DTSTAMP:20200225T034337
CREATED:20200121T130745Z
LAST-MODIFIED:20200121T131602Z
UID:9166-1583659800-1583683200@blazingswan.com.au
SUMMARY:Ranger Training #Session 3
DESCRIPTION:This is the third Ranger training session in the lead up to Blazing Swan 2020. Further information will be provided to those that sign up\, but if you have any questions please contact rangers(at)blazingswan.com.au \nRead more: https://blazingswan.com.au/2020-ranger-training/ \n
URL:https://blazingswan.com.au/events/ranger-training-session-3/
LOCATION:Swan’s Nest\, 38 Amherst Street\, Fremantle\, Western Australia\, 6160\, Australia
CATEGORIES:Rangers,Volunteers
ATTACH;FMTTYPE=image/jpeg:https://blazingswan.com.au/wp-content/uploads/TrainingEventCapture.jpg
END:VEVENT
BEGIN:VEVENT
DTSTART;TZID=Australia/Perth:20200311T000000
DTEND;TZID=Australia/Perth:20200311T235959
DTSTAMP:20200225T034337
CREATED:20190714T122942Z
LAST-MODIFIED:20200112T021230Z
UID:7482-1583884800-1583971199@blazingswan.com.au
SUMMARY:Fire Barrel Application Deadline
DESCRIPTION:Applications for burn barrels at Blazing Swan close on this date!  \nYou must submit an application before this as all Fire must be approved for use at Blazing Swan. \nHead here for application forms and more information on what types of Fire need an application and more. \nFire \n \n
URL:https://blazingswan.com.au/events/fire-barrel-application-deadline/
CATEGORIES:Fire key dates,Theme Camp Key Dates
ATTACH;FMTTYPE=image/png:https://blazingswan.com.au/wp-content/uploads/bar68erfire.png
END:VEVENT
BEGIN:VEVENT
DTSTART;TZID=Australia/Perth:20200311T000000
DTEND;TZID=Australia/Perth:20200311T235959
DTSTAMP:20200225T034337
CREATED:20200112T003318Z
LAST-MODIFIED:20200112T024708Z
UID:9100-1583884800-1583971199@blazingswan.com.au
SUMMARY:Fire applications closed (All)
DESCRIPTION:\n\n\n\n\nApplications for all types of fire at Blazing Swan close on this date! Want to burn something? Play with Fire? \nThis is the closing date for the final two fire types –  \n\nCandles and Tiki Torches\nFire Performances\n\nThe following are already closed though  – \n\nGas Cookers and Barbeques (if modified from standard or homemade) \nLiquid Fuel Flame Effects (Unpressurised) \nMutant Vehicle Flame Effects\nPyrotechnics\n\nYou must submit an application before this as all Fire must be approved for use at Blazing Swan. \nHead here for application forms and more information on what types of Fire need an application and more. \nFire \n\n\n\n\n\n\n
URL:https://blazingswan.com.au/events/fire-applications-closed-all/
CATEGORIES:Art Key Dates,DMT Key Dates,Fire key dates,Participants Key Dates,Theme Camp Key Dates
ATTACH;FMTTYPE=image/jpeg:https://blazingswan.com.au/wp-content/uploads/10286834_10152227831006551_4320219741383021709_o.jpg
END:VEVENT
BEGIN:VEVENT
DTSTART;TZID=Australia/Perth:20200315T100000
DTEND;TZID=Australia/Perth:20200315T160000
DTSTAMP:20200225T034337
CREATED:20190827T061350Z
LAST-MODIFIED:20200208T071317Z
UID:9265-1584266400-1584288000@blazingswan.com.au
SUMMARY:Theme Camp and Art Installations Electrical Test & Tag #2
DESCRIPTION:All Theme Camp fire extinguishers must be tested and tagged within the last 6 months. Eg Nov 2019 (based on April event date) would be the last tag date accepted on site.  Anything tagged after Nov 19 is acceptable. \nAs part of our commitment to support Artists and Theme Camps at Blazing Swan\, Blazing Swan will cover the costs of this exercise. For background – corporate businesses will often be charged $10 per tag – so it can become a costly affair. \nYou may drop off items at the Nest from 1st March. \nElectrical testing and tagging will take place at the nest on two dates: \n\nSaturday 7th March 10am -4pm\nSunday 15th March 10am- 4pm\n\nYou will be required to have at least one camp member to assist in the test and tag process. \nPlease ensure all leads /power boards have been inspected by you for damaged plugs\, nicks or cuts in the cable and are neatly packed\, and boxes labelled with camp or owners name and phone number. \nPlease have a separate printed list with your equipment with all leads/ power-boards \nAny failed tests will not be repaired. You will need to decide to repair or replace. \n
URL:https://blazingswan.com.au/events/theme-camp-and-art-installations-electrical-test-tag-2-2/
LOCATION:Swan’s Nest\, 38 Amherst Street\, Fremantle\, Western Australia\, 6160\, Australia
CATEGORIES:Art Key Dates,Theme Camp Key Dates
ATTACH;FMTTYPE=image/jpeg:https://blazingswan.com.au/wp-content/uploads/Test-Tag.jpg
END:VEVENT
BEGIN:VEVENT
DTSTART;TZID=Australia/Perth:20200315T100000
DTEND;TZID=Australia/Perth:20200315T130000
DTSTAMP:20200225T034337
CREATED:20191110T125606Z
LAST-MODIFIED:20200122T105818Z
UID:8690-1584266400-1584277200@blazingswan.com.au
SUMMARY:Rangers - Green Dot Training #1
DESCRIPTION:\n\n\n\n\nBlazing Swan can be a source of overwhelming experiences. Green Dots are Jilakin Rock Rangers who support participants having an emotional\, mental\, or spiritual crisis that goes beyond the capacity of their local community and less-specialized Rangers to support\, but which does not yet need professional services. \nLearn about peer counselling\, psychological First Aid and Green Dot & Sanctuary protocols. Pre-reading required\, discussion and scenario-based training.  \n\n\n\n\n\n\n
URL:https://blazingswan.com.au/events/rangers-green-dot-training-1/
LOCATION:Swan’s Nest\, 38 Amherst Street\, Fremantle\, Western Australia\, 6160\, Australia
CATEGORIES:Rangers,Volunteers
ATTACH;FMTTYPE=image/png:https://blazingswan.com.au/wp-content/uploads/rangergreendotlogo.png
ORGANIZER;CN="Lead%20Ranger":MAILTO:rangers@blazingswan.com.au
END:VEVENT
BEGIN:VEVENT
DTSTART;TZID=Australia/Perth:20200315T140000
DTEND;TZID=Australia/Perth:20200315T170000
DTSTAMP:20200225T034337
CREATED:20191110T125606Z
LAST-MODIFIED:20200122T110058Z
UID:8696-1584280800-1584291600@blazingswan.com.au
SUMMARY:Rangers - Black Swan Training #1
DESCRIPTION:\n\n\n\n\nFancy taking on a Black Swan shift? Come and learn about being the voice behind the radio at Ranger HQ and running operations. Open to any experienced Ranger. Pre-reading required. \n  \n\n\n\n\n\n\n
URL:https://blazingswan.com.au/events/rangers-black-swan-training-1/
LOCATION:Swan’s Nest\, 38 Amherst Street\, Fremantle\, Western Australia\, 6160\, Australia
CATEGORIES:Rangers,Volunteers
ATTACH;FMTTYPE=image/png:https://blazingswan.com.au/wp-content/uploads/BLACKSWAN_LOGO_WEB.png
ORGANIZER;CN="Lead%20Ranger":MAILTO:rangers@blazingswan.com.au
END:VEVENT
BEGIN:VEVENT
DTSTART;VALUE=DATE:20200316
DTEND;VALUE=DATE:20200317
DTSTAMP:20200225T034337
CREATED:20190827T061350Z
LAST-MODIFIED:20200208T071626Z
UID:9267-1584316800-1584403199@blazingswan.com.au
SUMMARY:Theme Camp and Art Installations Fire Extinguisher Test & Tag
DESCRIPTION:All Theme Camp fire extinguishers must be tested and tagged within the last 6 months. Eg Nov 2019 (based on April event date) would be the last tag date accepted on site. Anything tagged after Nov 19 is acceptable. \nAs part of our commitment to support Artists and Theme Camps at Blazing Swan\, Blazing Swan will cover the costs of this exercise. For background – corporate businesses will often be charged around $40 per test/tag. \nYou may drop off your fire extinguisher at the Nest from 1st March. \nFire extinguisher must have a current tag (tagged within the last 6 months) – Eg Nov 2019 would be the latest tag date accepted. \nFire extinguisher testing and tagging will take place at the nest on Monday 16th March \nWe request you arrange to pick up your fire extinguisher by 29th March. \n
URL:https://blazingswan.com.au/events/theme-camp-and-art-installations-fire-extinguisher-test-tag/
LOCATION:Swan’s Nest\, 38 Amherst Street\, Fremantle\, Western Australia\, 6160\, Australia
CATEGORIES:Art Key Dates,Theme Camp Key Dates
ATTACH;FMTTYPE=image/jpeg:https://blazingswan.com.au/wp-content/uploads/fire-extinguisher-test-tag.jpg
END:VEVENT
BEGIN:VEVENT
DTSTART;VALUE=DATE:20200316
DTEND;VALUE=DATE:20200317
DTSTAMP:20200225T034337
CREATED:20190827T061752Z
LAST-MODIFIED:20190827T061752Z
UID:8065-1584316800-1584403199@blazingswan.com.au
SUMMARY:Site Early Entry Request Application Opens
DESCRIPTION:
URL:https://blazingswan.com.au/events/site-early-entry-request-application-opens/
END:VEVENT
BEGIN:VEVENT
DTSTART;VALUE=DATE:20200322
DTEND;VALUE=DATE:20200323
DTSTAMP:20200225T034337
CREATED:20190714T122712Z
LAST-MODIFIED:20190827T061843Z
UID:7479-1584835200-1584921599@blazingswan.com.au
SUMMARY:Site Early Entry Request Application - Close / Deadline
DESCRIPTION:
URL:https://blazingswan.com.au/events/site-early-entry-request-deadline/
CATEGORIES:Art Key Dates,Theme Camp Key Dates
END:VEVENT
BEGIN:VEVENT
DTSTART;VALUE=DATE:20200323
DTEND;VALUE=DATE:20200324
DTSTAMP:20200225T034337
CREATED:20190827T062004Z
LAST-MODIFIED:20190827T062004Z
UID:8067-1584921600-1585007999@blazingswan.com.au
SUMMARY:Issue Early Access Passes
DESCRIPTION:
URL:https://blazingswan.com.au/events/issue-early-access-passes/
CATEGORIES:Art Key Dates,Theme Camp Key Dates
END:VEVENT
BEGIN:VEVENT
DTSTART;VALUE=DATE:20200329
DTEND;VALUE=DATE:20200330
DTSTAMP:20200225T034337
CREATED:20190827T061350Z
LAST-MODIFIED:20200208T070639Z
UID:9272-1585440000-1585526399@blazingswan.com.au
SUMMARY:Theme Camp and Art Installations Fire Extinguisher Test & Tag - Close
DESCRIPTION:All Theme Camp fire extinguishers must be tested and tagged. \nAs part of our commitment to support Artists and Theme Camps at Blazing Swan\, Blazing Swan will cover the costs of this exercise. For background – corporate businesses will often be charged around $40 per test/tag. \nYou may drop off your fire extinguisher at the Nest from 1st March. \nFire extinguisher must have a current tag (tagged within the last 6 months) – Eg Nov 2019 would be the latest tag date accepted. \nFire extinguisher testing and tagging will take place at the nest on Monday 16th March \nWe request you arrange to pick up your fire extinguisher by 29th March. \n
URL:https://blazingswan.com.au/events/theme-camp-and-art-installations-fire-extinguisher-test-tag-close/
LOCATION:Swan’s Nest\, 38 Amherst Street\, Fremantle\, Western Australia\, 6160\, Australia
CATEGORIES:Art Key Dates,Theme Camp Key Dates
ATTACH;FMTTYPE=image/jpeg:https://blazingswan.com.au/wp-content/uploads/fire-extinguisher-test-tag.jpg
END:VEVENT
BEGIN:VEVENT
DTSTART;VALUE=DATE:20200331
DTEND;VALUE=DATE:20200401
DTSTAMP:20200225T034337
CREATED:20190714T123505Z
LAST-MODIFIED:20200206T043637Z
UID:9251-1585612800-1585699199@blazingswan.com.au
SUMMARY:Ice Pre-Sales Close
DESCRIPTION:Ice pre-orders/sales for Blazing Swan 2020 close \nRead more on ice and ordering here: https://blazingswan.com.au/ice/ \n
URL:https://blazingswan.com.au/events/icedeadline/
CATEGORIES:Art Key Dates,Community Events,DMT Key Dates,Members Key Dates,Participants Key Dates,Theme Camp Key Dates
ATTACH;FMTTYPE=image/jpeg:https://blazingswan.com.au/wp-content/uploads/Ice.jpg
END:VEVENT
BEGIN:VEVENT
DTSTART;VALUE=DATE:20200331
DTEND;VALUE=DATE:20200401
DTSTAMP:20200225T034337
CREATED:20190827T061350Z
LAST-MODIFIED:20200208T055919Z
UID:8060-1585612800-1585699199@blazingswan.com.au
SUMMARY:Theme Camp and Art Installations Electrical Test & Tag - Close / Deadline
DESCRIPTION:Please ensure all test/tagged equipment is removed from the Nest. \nAnything not tagged at this point will require you/your Theme Camp to be tested/tagged independently. \nThank you \n
URL:https://blazingswan.com.au/events/theme-camp-and-art-installations-electrical-test-tag-2/
LOCATION:Swan’s Nest\, 38 Amherst Street\, Fremantle\, Western Australia\, 6160\, Australia
CATEGORIES:Art Key Dates,Theme Camp Key Dates
ATTACH;FMTTYPE=image/jpeg:https://blazingswan.com.au/wp-content/uploads/Test-Tag.jpg
END:VEVENT
BEGIN:VEVENT
DTSTART;TZID=Australia/Perth:20200401T000000
DTEND;TZID=Australia/Perth:20200401T235959
DTSTAMP:20200225T034337
CREATED:20190714T123420Z
LAST-MODIFIED:20191016T141448Z
UID:7494-1585699200-1585785599@blazingswan.com.au
SUMMARY:Stage 3 Tickets Finish (Unless Sold Out)
DESCRIPTION:
URL:https://blazingswan.com.au/events/stage-3-tickets-finish-unless-sold-out/
CATEGORIES:Participants Key Dates,Theme Camp Key Dates
ATTACH;FMTTYPE=image/jpeg:https://blazingswan.com.au/wp-content/uploads/Blazing-Swan-2020.jpg
END:VEVENT
BEGIN:VEVENT
DTSTART;VALUE=DATE:20200404
DTEND;VALUE=DATE:20200405
DTSTAMP:20200225T034337
CREATED:20190714T123021Z
LAST-MODIFIED:20190714T123021Z
UID:7484-1585958400-1586044799@blazingswan.com.au
SUMMARY:Site Early Entry Opens
DESCRIPTION:
URL:https://blazingswan.com.au/events/site-early-entry-opens/
CATEGORIES:Art Key Dates,Theme Camp Key Dates
END:VEVENT
BEGIN:VEVENT
DTSTART;TZID=Australia/Perth:20200408T000000
DTEND;TZID=Australia/Perth:20200414T235959
DTSTAMP:20200225T034337
CREATED:20190714T123505Z
LAST-MODIFIED:20191020T133028Z
UID:7496-1586304000-1586908799@blazingswan.com.au
SUMMARY:Blazing Swan 2020!
DESCRIPTION:Blazing Swan 2020: Perception \nApril 8th – 14th \nWe asked and you answered!  \nThe Blazing Swan Committee is happy to announce the theme for Blazing Swan 2020 as “Perception”.  \nWe would like to thank our community for all the valuable suggestions and feedback that enabled us to come to come to this decision.  \n————— \nPerceptionFrom Wikipedia\, the free encyclopedia“Perception is the organisation\, identification\, and interpretation of sensory information in order to represent and understand the presented information\, or the environment.” \n————— \nAs opposed to just one\, all of the senses are represented with Perception. Blazing Swan is a place where we feel\, touch\, see\, hear and smell. It’s a place where we interact and play with each other\, develop special relationships and a place where we are free to create. It’s a meeting point of creatives\, performers\, artists\, musicians\, givers\, experiments\, acts of kindness and anything else that allows people to live in a deeper self-understanding. \nAlthough our own perception is very personal and influenced by our individual experiences and beliefs\, as a collective community we thrive on sharing. Each year we build a bustling hive – a new age city and for one special week we feel that we are understood\, welcome and free of judgement. When we share these moments together\, our minds are opened and our perceptions are broadened. Let’s develop this further and make Blazing Swan 2020 a year of sensory stimulation and community unification.  \nWe are so excited to see what amazing creativity this theme will inspire and look forward to welcoming you home for an epic journey that will ultimately be your own Perception.  \n————— \n“Perception is merely reality filtered through the prism of your soul.” Christopher A. Ray \n————— \nBlazing Swan 2020 Perception needs you! – Art and Theme Camp applications open on 1st September \n– Effigy and Temple applications are already open and close 25th September \n– Super early bird (Round 1) tickets will be released to the public on 7th September at 8am. \n– Blazing Swan Members will receive early access ticket sales on 1st September. \n
URL:https://blazingswan.com.au/events/blazing-swan-2020/
CATEGORIES:Art Key Dates,Community Events,DMT Key Dates,Members Key Dates,Participants Key Dates,Theme Camp Key Dates
ATTACH;FMTTYPE=image/jpeg:https://blazingswan.com.au/wp-content/uploads/Blazing-Swan-2020.jpg
END:VEVENT
BEGIN:VEVENT
DTSTART;TZID=Australia/Perth:20200408T093000
DTEND;TZID=Australia/Perth:20200408T160000
DTSTAMP:20200225T034337
CREATED:20191105T121738Z
LAST-MODIFIED:20200121T131522Z
UID:8687-1586338200-1586361600@blazingswan.com.au
SUMMARY:Ranger Training #Session 4
DESCRIPTION:\n\n\n\n\nThis is the fourth Ranger training session held at Blazing Swan 2020. Further information will be provided to those that sign up\, but if you have any questions please contact rangers(at)blazingswan.com.au \nRead more: https://blazingswan.com.au/2020-ranger-training/ \n\n\n\n\n\n\n
URL:https://blazingswan.com.au/events/ranger-training-session-4/
LOCATION:Ranger HQ / Sanctuary\, Jilakin Rock City\, Australia
CATEGORIES:Rangers,Volunteers
ATTACH;FMTTYPE=image/jpeg:https://blazingswan.com.au/wp-content/uploads/TrainingEventCapture.jpg
ORGANIZER;CN="Lead%20Ranger":MAILTO:rangers@blazingswan.com.au
END:VEVENT
BEGIN:VEVENT
DTSTART;TZID=Australia/Perth:20200409T140000
DTEND;TZID=Australia/Perth:20200409T170000
DTSTAMP:20200225T034337
CREATED:20191110T125606Z
LAST-MODIFIED:20200122T105848Z
UID:8693-1586440800-1586451600@blazingswan.com.au
SUMMARY:Rangers - Green Dot Training #2
DESCRIPTION:\n\n\n\n\nBlazing Swan can be a source of overwhelming experiences. Green Dots are Jilakin Rock Rangers who support participants having an emotional\, mental\, or spiritual crisis that goes beyond the capacity of their local community and less-specialized Rangers to support\, but which does not yet need professional services. \nLearn about peer counselling\, psychological First Aid and Green Dot & Sanctuary protocols. Pre-reading required\, discussion and scenario-based training.  \n\n\n\n\n\n\n
URL:https://blazingswan.com.au/events/rangers-green-dot-training-2/
LOCATION:Intelligent Deviants\, Jilakin Rock City\, Australia
CATEGORIES:Rangers,Volunteers
ATTACH;FMTTYPE=image/png:https://blazingswan.com.au/wp-content/uploads/rangergreendotlogo.png
ORGANIZER;CN="Lead%20Ranger":MAILTO:rangers@blazingswan.com.au
END:VEVENT
BEGIN:VEVENT
DTSTART;TZID=Australia/Perth:20200409T140000
DTEND;TZID=Australia/Perth:20200409T170000
DTSTAMP:20200225T034337
CREATED:20191110T125606Z
LAST-MODIFIED:20200122T110146Z
UID:8698-1586440800-1586451600@blazingswan.com.au
SUMMARY:Rangers - Black Swan Training #2
DESCRIPTION:\n\n\n\n\nFancy taking on a Black Swan shift? Come and learn about being the voice behind the radio at Ranger HQ and running operations. Open to any experienced Ranger. Pre-reading required. \n\n\n\n\n\n\n
URL:https://blazingswan.com.au/events/rangers-black-swan-training-2/
LOCATION:Intelligent Deviants\, Jilakin Rock City\, Australia
CATEGORIES:Rangers,Volunteers
ATTACH;FMTTYPE=image/png:https://blazingswan.com.au/wp-content/uploads/BLACKSWAN_LOGO_WEB.png
ORGANIZER;CN="Lead%20Ranger":MAILTO:rangers@blazingswan.com.au
END:VEVENT
BEGIN:VEVENT
DTSTART;TZID=Australia/Perth:20200427T000000
DTEND;TZID=Australia/Perth:20200503T233000
DTSTAMP:20200225T034337
CREATED:20191020T145048Z
LAST-MODIFIED:20191020T145833Z
UID:8523-1587945600-1588548600@blazingswan.com.au
SUMMARY:Afrikaburn 2020
DESCRIPTION:
URL:https://blazingswan.com.au/events/afrikaburn-2020/
LOCATION:Tankwa Town\, Binnekring Road\, South Africa
CATEGORIES:Community Events
ATTACH;FMTTYPE=image/jpeg:https://blazingswan.com.au/wp-content/uploads/AfrikaBurn.jpg
END:VEVENT
BEGIN:VEVENT
DTSTART;TZID=Australia/Perth:20200701T000000
DTEND;TZID=Australia/Perth:20200706T233000
DTSTAMP:20200225T034337
CREATED:20200109T144342Z
LAST-MODIFIED:20200109T144458Z
UID:9081-1593561600-1594078200@blazingswan.com.au
SUMMARY:Modifyre 2020
DESCRIPTION:
URL:https://blazingswan.com.au/events/modifyre/
LOCATION:YELARBON STATE FOREST\, Queensland\, Australia
CATEGORIES:Community Events
ATTACH;FMTTYPE=image/png:https://blazingswan.com.au/wp-content/uploads/Modifyre.png
END:VEVENT
BEGIN:VEVENT
DTSTART;TZID=Australia/Perth:20200830T000000
DTEND;TZID=Australia/Perth:20200907T233000
DTSTAMP:20200225T034337
CREATED:20191020T141751Z
LAST-MODIFIED:20191020T141753Z
UID:8517-1598745600-1599521400@blazingswan.com.au
SUMMARY:Burning Man 2020
DESCRIPTION:
URL:https://blazingswan.com.au/events/burning-man-2020/
LOCATION:Black Rock City\, Black Rock City\, NV\, United States
CATEGORIES:Community Events
ATTACH;FMTTYPE=image/jpeg:https://blazingswan.com.au/wp-content/uploads/Burning-man.jpg
END:VEVENT
END:VCALENDAR